BEGIN:VCALENDAR
VERSION:2.0
PRODID:-//wp-events-plugin.com//7.2.3.1//EN
TZID:Europe/Berlin
X-WR-TIMEZONE:Europe/Berlin
BEGIN:VEVENT
UID:318@dagsiwi.de
DTSTART;TZID=Europe/Berlin:20251128T183000
DTEND;TZID=Europe/Berlin:20251128T213000
DTSTAMP:20251105T162946Z
URL:https://www.dagsiwi.de/en/veranstaltungen/thanksgiving-dinner-2025/
SUMMARY:Thanksgiving Dinner 2025 - Dorint Parkhotel Siegen - 28 Nov 25 18:3
 0
DESCRIPTION:Traditionell am letzten Donnerstag im November wird in den USA 
 der überkonfessionelle Thanksgiving Day gefeiert – als allgemeines Frie
 dens- und Erntedankfest\, welches von den Pilgervätern 1621 nach der Ernt
 e in der Kolonie Plymouth im heutigen US-Staat Massachusetts erstmalig beg
 angen wurde. Auch auf dem alten Kontinent greift man diesen Brauch in Wür
 digung der Verbundenheit mit der „Neuen Welt“ gerne auf.\n\n[caption i
 d="attachment_4748" align="alignnone" width="625"] https://www.flickr.com/
 photos/fuchsia_berry/8493096205[/caption]\n\nDie Veranstaltung ist offen f
 ür Vereinsmitglieder und interessierte Gäste. Insbesondere Siegerländer
  und Wittgensteiner\, die persönlichen Kontakte in die USA haben\, seien 
 es Geschäftsbeziehungen\, verwandtschaftliche oder freundschaftliche Verb
 indungen oder Erinnerungen an einen Studien- oder Schulaufenthalt\, sind h
 erzlich eingeladen\, der stimmungsvollen Veranstaltung beizuwohnen.\n\nBuf
 fet-Speiseplan\n\nVorspeise\n\n 	Geräucherte Makrelenhäppchen\n 	Kürbis
 cremesuppe\n 	Buntes Salatbuffet und Brotkorb\n\nHauptgang\n\n 	Truthahn K
 eule &amp\; Brust\n 	Cranberrysauce\n 	Truthahnfüllung\n 	Hackbraten\n 	L
 achsfilet an Saffransauce\n 	Kartoffel-Süßkartoffel-Gratin\n 	Rustikale 
 Bratkartoffeln\n 	Basmatireis\n 	Karottengemüse\n 	Grüne Bohnen\n 	Rosen
 kohl mit Speck\n\nNachspeise\n\n 	Apple Pie\n 	New York Cheesecake\n 	Obst
 salat\n\nZur Anmeldung:\n\nFüllen Sie zur Anmeldung einfach das online da
 s unten stehende Formular aus. Wenn Sie mehrere Teilnehmer anmelden möcht
 en\, benennen Sie diese bitte mit Vor- und Zunamen im Kommentarfeld. Sie e
 rhalten nach Ihrer Anmeldung eine E-Mail mit den Angaben zur Bezahlung der
  Eintrittskarten (Überweisung\, Paypal). Sobald der Betrag auf dem Verein
 skonto eingegangen ist\, bestätigen wir Ihnen Ihre Anmeldung verbindlich.
  Der Betrag gilt nur für das Essen (Buffet)\, Getränke sind separat zu b
 ezahlen. Natürlich steht es Ihnen frei\, sich postalisch\, per Telefon od
 er E-Mail über die Geschäftsstelle anzumelden.\n\nDie Eintrittskarte ist
  personalisiert\, kann aber im Falle Ihrer Verhinderungsfall auf andere Pe
 rsonen übertragen werden. Nehmen Sie dazu bitte Kontakt mit uns auf.\n\nD
 ie Vergabe der Plätze wird nach dem „first-come-first-serve“ Prinzip 
 vergeben. Die Erfahrungen der letzten Jahre haben gezeigt\, dass die Nachf
 rage höher ist als die verfügbaren Plätze. In den letzten Jahren sind w
 ir immer bis auf den letzten Platz ausgebucht gewesen. Daher empfehlen wir
  Ihnen eine zeitnahe Anmeldung!\n\nWichtige Hinweise:\n\n 	Sie können pro
  Buchung maximal 4 Tickets bestellen.\n 	Wenn Sie mehr als eine Person anm
 elden\, geben Sie unbedingt im\nKommentarfeld alle vollständigen Namen an
 .\n
CATEGORIES:Feierlichkeit
LOCATION:Dorint Parkhotel Siegen\, Patmosweg 60\, Siegen-Geisweid\, NRW\, 5
 7078\, Germany
X-APPLE-STRUCTURED-LOCATION;VALUE=URI;X-ADDRESS=Patmosweg 60\, Siegen-Geisw
 eid\, NRW\, 57078\, Germany;X-APPLE-RADIUS=100;X-TITLE=Dorint Parkhotel Si
 egen:geo:0,0
END:VEVENT
BEGIN:VTIMEZONE
TZID:Europe/Berlin
X-LIC-LOCATION:Europe/Berlin
BEGIN:STANDARD
DTSTART:20251026T020000
TZOFFSETFROM:+0200
TZOFFSETTO:+0100
TZNAME:CET
END:STANDARD
END:VTIMEZONE
END:VCALENDAR