BEGIN:VCALENDAR
VERSION:2.0
PRODID:-//wp-events-plugin.com//7.2.3.1//EN
TZID:Europe/Berlin
X-WR-TIMEZONE:Europe/Berlin
BEGIN:VEVENT
UID:153@dagsiwi.de
DTSTART;TZID=Europe/Berlin:20151126T183000
DTEND;TZID=Europe/Berlin:20151126T223000
DTSTAMP:20151123T164536Z
URL:https://www.dagsiwi.de/veranstaltungen/thanksgiving-dinner-2015-dag-si
 wi/
SUMMARY:Thanksgiving Dinner 2015 - leider ausgebucht! - Hotel-Restaurant "P
 feffermühle"  - 26 Nov. 15 18:30
DESCRIPTION:Liebe Freunde der deutsch-amerikanischen Freundschaft\,\n\nim N
 amen des Vorstands der Deutsch-Amerikanischen Gesellschaft Siegerland-Witt
 genstein e.V. möchten wir Sie zum diesjährigen schon traditionellen „T
 hanksgiving Dinner“ herzlich einladen. Wir würden uns freuen\, Sie im R
 ahmen dieser kulturellen und kulinarischen Feierlichkeit begrüßen zu dü
 rfen\, um Ihnen unsere Gesellschaft in einem gemütlichen Ambiente näher 
 vorzustellen. Dieses Mal findet unsere Feier wieder am authentischen „Th
 anksgiving Day - Fourth Thursday im November“\, einem der wichtigsten Fe
 iertage in den USA\, statt.\n\n[caption id="attachment_2439" align="alignr
 ight" width="300"] Lizenz: CC0 Public Domain\, PublicDomainPictures[/capti
 on]\n\nDie Küche der Pfeffermühle wird uns wieder an entsprechend geschm
 ückten Tischen ein traditionelles amerikanisches Thanksgiving Dinner mit 
 gefülltem Truthahn vom mächtigen Grill\, Preiselbeeren\, süßen Kartoff
 eln\, Mais in Käserahm und Kürbiskuchen zum Dessert servieren. Auch im l
 etzten Jahr haben viele Mitglieder und Gäste wiederum den Geschmack diese
 s typisch amerikanischen Gerichtes gelobt. Es erwartet Sie ein stimmungsvo
 ller Abend mit anregenden Gesprächen und Informationen über unsere Gesel
 lschaft und die d-a Beziehungen. Außerdem werden wir kurz über die diesj
 ährigen Höhepunkte unserer Gesellschaft berichten (z.B. die zwei Besuche
  des US-Generalkonsuls Steven Hubler\, Jazzlegende Jocelyn B. Smith Konzer
 t\, VDAC Convention u. d-a Tag\, Schülerfacharbeiten\, usw.).\n\nZur Anme
 ldung: Als Erleichterung für die Organisation (DAG &amp\; Restaurant) wir
 d dieses Jahr der Betrag für das Essen (Getränke nicht inbegriffen) im V
 oraus auf unser Vereinskonto überwiesen. Pro Person werden 20 Euro überw
 iesen. Unsere Gesellschaft unterstützt Schüler und Studenten mit 10 Euro
 . Daher überweisen sie nur 10 Euro. Im Betreff bitte schreiben: „Thanks
 giving 2015“ und den/die vollständigen „Namen der Gäste“. Als Eins
 endeschluss (Eingang auf Konto) ist der 19.11. festgesetzt. (IBAN DE69 460
 5 3480 0000 0414 00 bei der Sparkasse Wittgenstein\, Bad Berleburg BIC WEL
 ADED1BEB). Zusätzlich muss das DAG-Büro informiert werden bezüglich der
  Adresse\, an die die Eintrittskarten geschickt werden sollen. Die Eintrit
 tskarte ist zwar personalisiert\, trotzdem aber übertragbar! D.h. bei Erk
 rankung oder sonstigen Verhinderungsgründen kann das Ticket selbstverstä
 ndlich weitergegeben werden. (Die Vergabe der Plätze wird gemäß Eingang
  DAG-Konto nach dem „first-come-first-serve“ Prinzip vergeben).\n\n\n\
 nDownload als PDF\neinladung thanksgiving dinner 2015
ATTACH;FMTTYPE=image/jpeg:https://www.dagsiwi.de/wordpress/wp-content/uplo
 ads/2015/09/DAGSIWI.jpg
CATEGORIES:Feierlichkeit
LOCATION:Hotel-Restaurant "Pfeffermühle" \, Frankfurter Straße 261\, Sieg
 en\, Deutschland
GEO:50.8619;7.083889999999997
X-APPLE-STRUCTURED-LOCATION;VALUE=URI;X-ADDRESS=Frankfurter Straße 261\, S
 iegen\, Deutschland;X-APPLE-RADIUS=100;X-TITLE=Hotel-Restaurant \"Pfefferm
 ühle\" :geo:50.8619,7.083889999999997
END:VEVENT
BEGIN:VTIMEZONE
TZID:Europe/Berlin
X-LIC-LOCATION:Europe/Berlin
BEGIN:STANDARD
DTSTART:20151025T020000
TZOFFSETFROM:+0200
TZOFFSETTO:+0100
TZNAME:CET
END:STANDARD
END:VTIMEZONE
END:VCALENDAR